BEGIN:VCALENDAR
VERSION:2.0
PRODID:DPCALENDAR
CALSCALE:GREGORIAN
X-WR-TIMEZONE:UTC
BEGIN:VEVENT
DTSTART;TZID=UTC:20231114T093000
DTEND;TZID=UTC:20231114T110000
UID:09DC7AF5-D18A-4382-8E69-5D9ECDE919A9
SUMMARY:Eltern-Kind-Treffen
CREATED:20231103T115302Z
DTSTAMP:20231103T115302Z
URL:https://www.bahnhof-radibor.de/de/component/dpcalendar/event/10?calid=15
X-ACCESS:1
X-HITS:13
X-COLOR:ffa200
X-SHOW-END-TIME:1
END:VEVENT
BEGIN:VEVENT
DTSTART;TZID=UTC:20231121T093000
DTEND;TZID=UTC:20231121T110000
UID:626B963D-9AED-44EA-BF64-D3AFB909D565
SUMMARY:Eltern-Kind-Treffen
CREATED:20231103T115401Z
DTSTAMP:20231103T115401Z
URL:https://www.bahnhof-radibor.de/de/component/dpcalendar/event/11?calid=15
LAST-MODIFIED:20231103T115832Z
SEQUENCE:271
X-ACCESS:1
X-HITS:12
X-COLOR:ffa200
X-SHOW-END-TIME:1
END:VEVENT
BEGIN:VEVENT
DTSTART;TZID=UTC:20231128T093000
DTEND;TZID=UTC:20231128T110000
UID:785DF941-73B2-425F-8283-C58CF5468CD8
SUMMARY:Eltern-Kind-Treffen
CREATED:20231103T115455Z
DTSTAMP:20231103T115455Z
URL:https://www.bahnhof-radibor.de/de/component/dpcalendar/event/12?calid=15
X-ACCESS:1
X-HITS:10
X-COLOR:ffa200
X-SHOW-END-TIME:1
END:VEVENT
BEGIN:VEVENT
DTSTART;TZID=UTC:20231207T150000
DTEND;TZID=UTC:20231207T180000
UID:37105443-54BD-4977-AB26-32E0F30FC9EE
SUMMARY:Adventsbasteln für Jung und Alt 
CREATED:20231103T113940Z
DTSTAMP:20231103T113940Z
URL:https://www.bahnhof-radibor.de/de/component/dpcalendar/event/7?calid=15
LAST-MODIFIED:20231204T071941Z
SEQUENCE:2662801
X-ACCESS:1
X-HITS:16
X-COLOR:ffa200
X-SHOW-END-TIME:1
END:VEVENT
BEGIN:VEVENT
DTSTART;TZID=UTC:20231214T160000
DTEND;TZID=UTC:20231214T170000
UID:991210B5-9005-47A9-A396-2B207E379410
SUMMARY:Adventsfeier für die ganze Familie
CREATED:20231103T114039Z
DTSTAMP:20231103T114039Z
URL:https://www.bahnhof-radibor.de/de/component/dpcalendar/event/8?calid=15
X-ACCESS:1
X-HITS:21
X-COLOR:ffa200
X-SHOW-END-TIME:0
END:VEVENT
BEGIN:VEVENT
DTSTART;TZID=UTC:20240305T093000
DTEND;TZID=UTC:20240305T110000
UID:09B8CE94-87F1-4EEB-BE68-382A0B20302F
SUMMARY:Eltern-Kind-Treffen
CREATED:20240205T110208Z
DTSTAMP:20240205T110208Z
URL:https://www.bahnhof-radibor.de/de/component/dpcalendar/event/32?calid=15
X-ACCESS:1
X-HITS:15
X-COLOR:ffa200
X-SHOW-END-TIME:1
END:VEVENT
BEGIN:VEVENT
DTSTART;TZID=UTC:20240312T093000
DTEND;TZID=UTC:20240312T110000
UID:B9EF9617-EA50-4C4F-9082-C9D4F31642CC
SUMMARY:Eltern-Kind-Treffen
CREATED:20240205T110403Z
DTSTAMP:20240205T110403Z
URL:https://www.bahnhof-radibor.de/de/component/dpcalendar/event/34?calid=15
X-ACCESS:1
X-HITS:41
X-COLOR:ffa200
X-SHOW-END-TIME:1
END:VEVENT
BEGIN:VEVENT
DTSTART;TZID=UTC:20240319T093000
DTEND;TZID=UTC:20240319T110000
UID:CFF76B26-D7DB-4F34-A14A-85CE2FC71867
SUMMARY:Eltern-Kind-Treffen
CREATED:20240226T094528Z
DTSTAMP:20240226T094528Z
URL:https://www.bahnhof-radibor.de/de/component/dpcalendar/event/36?calid=15
X-ACCESS:1
X-HITS:42
X-COLOR:ffa200
X-SHOW-END-TIME:1
END:VEVENT
BEGIN:VEVENT
DTSTART;TZID=UTC:20240402T093000
DTEND;TZID=UTC:20240402T110000
UID:640670A5-CBF6-4BE4-A98C-9326B8A915EC
SUMMARY:Eltern-Kind-Treffen 
CREATED:20240313T100422Z
DTSTAMP:20240313T100422Z
URL:https://www.bahnhof-radibor.de/de/component/dpcalendar/event/45?calid=15
X-ACCESS:1
X-HITS:17
X-COLOR:ffa200
X-SHOW-END-TIME:1
END:VEVENT
BEGIN:VEVENT
DTSTART;TZID=UTC:20240407T093000
DTEND;TZID=UTC:20240407T113000
UID:9A40C76F-7BBE-4E76-AA05-F5AF8E6038C1
SUMMARY:Eltern-Kind-Treffen
CREATED:20240417T070802Z
DTSTAMP:20240417T070802Z
URL:https://www.bahnhof-radibor.de/de/component/dpcalendar/event/52?calid=15
X-ACCESS:1
X-HITS:1
X-COLOR:ffa200
X-SHOW-END-TIME:1
END:VEVENT
BEGIN:VEVENT
DTSTART;TZID=UTC:20240410T093000
DTEND;TZID=UTC:20240410T110000
UID:671EB913-ABE4-453F-8162-CA9205571F8C
SUMMARY:Eltern-Kind-Treffen
CREATED:20240313T100608Z
DTSTAMP:20240313T100608Z
URL:https://www.bahnhof-radibor.de/de/component/dpcalendar/event/46?calid=15
LAST-MODIFIED:20240404T103709Z
SEQUENCE:1902661
X-ACCESS:1
X-HITS:25
X-COLOR:ffa200
X-SHOW-END-TIME:1
END:VEVENT
BEGIN:VEVENT
DTSTART;TZID=UTC:20240423T093000
DTEND;TZID=UTC:20240423T110000
UID:8E83EB22-6719-4C4E-8C20-DEE4E9800ADF
SUMMARY:Eltern-Kind-Treffen
CREATED:20240313T100722Z
DTSTAMP:20240313T100722Z
URL:https://www.bahnhof-radibor.de/de/component/dpcalendar/event/48?calid=15
X-ACCESS:1
X-HITS:59
X-COLOR:ffa200
X-SHOW-END-TIME:1
END:VEVENT
BEGIN:VEVENT
DTSTART;TZID=UTC:20240430T093000
DTEND;TZID=UTC:20240430T110000
UID:99333B11-D855-4818-A000-AFBD6D4C0897
SUMMARY:Eltern-Kind-Treffen
CREATED:20240313T100934Z
DTSTAMP:20240313T100934Z
URL:https://www.bahnhof-radibor.de/de/component/dpcalendar/event/50?calid=15
X-ACCESS:1
X-HITS:11
X-COLOR:ffa200
X-SHOW-END-TIME:1
END:VEVENT
BEGIN:VEVENT
DTSTART;TZID=UTC:20240507T093000
DTEND;TZID=UTC:20240507T110000
UID:5498BAFA-D58B-4E3D-ADA4-3B4B3152FD42
SUMMARY:Eltern-Kind-Treffen
CREATED:20240417T070926Z
DTSTAMP:20240417T070926Z
URL:https://www.bahnhof-radibor.de/de/component/dpcalendar/event/53?calid=15
X-ACCESS:1
X-HITS:53
X-COLOR:ffa200
X-SHOW-END-TIME:1
END:VEVENT
BEGIN:VEVENT
DTSTART;TZID=UTC:20240514T093000
DTEND;TZID=UTC:20240514T110000
UID:71B3DFD2-1A63-42C6-BE65-8B5D95DCDCCD
SUMMARY:Eltern-Kind-Treffen
CREATED:20240417T071137Z
DTSTAMP:20240417T071137Z
URL:https://www.bahnhof-radibor.de/de/component/dpcalendar/event/55?calid=15
X-ACCESS:1
X-HITS:68
X-COLOR:ffa200
X-SHOW-END-TIME:1
END:VEVENT
BEGIN:VEVENT
DTSTART;TZID=UTC:20240515T170000
DTEND;TZID=UTC:20240515T180000
UID:D029CC3F-C5D1-4DDA-8417-5B7DB1E5EB48
SUMMARY:Erste-Hilfe-Kurs bei Kindernotfällen 
CREATED:20240417T071243Z
DTSTAMP:20240417T071243Z
URL:https://www.bahnhof-radibor.de/de/component/dpcalendar/event/56?calid=15
DESCRIPTION:Anmeldung unter: info@bahnhof-radibor.de oder 01523 / 1660955
X-ALT-DESC;FMTTYPE=text/html:<p>Anmeldung unter: <a href="mailto:info@bahnhof-radibor.de">info@bahnhof-radibor.de</a>&nbsp;oder 01523 / 1660955</p>
LAST-MODIFIED:20240417T071354Z
SEQUENCE:71
X-ACCESS:1
X-HITS:53
X-COLOR:ffa200
X-SHOW-END-TIME:0
END:VEVENT
BEGIN:VEVENT
DTSTART;TZID=UTC:20240521T093000
DTEND;TZID=UTC:20240521T110000
UID:2E73B6A2-C807-4A8F-BE69-CC304CBFB166
SUMMARY:Eltern-Kind-Treffen
CREATED:20240417T071442Z
DTSTAMP:20240417T071442Z
URL:https://www.bahnhof-radibor.de/de/component/dpcalendar/event/57?calid=15
X-ACCESS:1
X-HITS:46
X-COLOR:ffa200
X-SHOW-END-TIME:1
END:VEVENT
BEGIN:VEVENT
DTSTART;TZID=UTC:20240528T093000
DTEND;TZID=UTC:20240528T110000
UID:13CFADB9-37FA-4AA5-BDB3-8C98E7C06568
SUMMARY:Eltern-Kind-Treffen
CREATED:20240417T071837Z
DTSTAMP:20240417T071837Z
URL:https://www.bahnhof-radibor.de/de/component/dpcalendar/event/59?calid=15
X-ACCESS:1
X-HITS:60
X-COLOR:ffa200
X-SHOW-END-TIME:1
END:VEVENT
BEGIN:VEVENT
DTSTART;TZID=UTC:20240604T093000
DTEND;TZID=UTC:20240604T110000
UID:299417BF-972F-4801-8426-40EB59A4F9F2
SUMMARY:Eltern-Kind-Treffen
CREATED:20240517T111541Z
DTSTAMP:20240517T111541Z
URL:https://www.bahnhof-radibor.de/de/component/dpcalendar/event/60?calid=15
X-ACCESS:1
X-HITS:25
X-COLOR:ffa200
X-SHOW-END-TIME:1
END:VEVENT
BEGIN:VEVENT
DTSTART;TZID=UTC:20240611T093000
DTEND;TZID=UTC:20240611T110000
UID:AE72A34B-9843-4E47-999D-40A70740ED2A
SUMMARY:Eltern-Kind-Treffen 
CREATED:20240517T111645Z
DTSTAMP:20240517T111645Z
URL:https://www.bahnhof-radibor.de/de/component/dpcalendar/event/61?calid=15
LAST-MODIFIED:20240517T111648Z
SEQUENCE:3
X-ACCESS:1
X-HITS:41
X-COLOR:ffa200
X-SHOW-END-TIME:1
END:VEVENT
BEGIN:VEVENT
DTSTART;TZID=UTC:20240618T093000
DTEND;TZID=UTC:20240618T110000
UID:16A79645-F5BB-470A-97E8-A07BE5AB315A
SUMMARY:Eltern-Kind-Treffen 
CREATED:20240517T111911Z
DTSTAMP:20240517T111911Z
URL:https://www.bahnhof-radibor.de/de/component/dpcalendar/event/63?calid=15
X-ACCESS:1
X-HITS:31
X-COLOR:ffa200
X-SHOW-END-TIME:1
END:VEVENT
BEGIN:VEVENT
DTSTART;TZID=UTC:20240625T093000
DTEND;TZID=UTC:20240625T110000
UID:5F0910F4-1933-4019-9B7F-94CCEE44F7DD
SUMMARY:Eltern-Kind-Treffen 
CREATED:20240517T112220Z
DTSTAMP:20240517T112220Z
URL:https://www.bahnhof-radibor.de/de/component/dpcalendar/event/65?calid=15
X-ACCESS:1
X-HITS:30
X-COLOR:ffa200
X-SHOW-END-TIME:1
END:VEVENT
BEGIN:VEVENT
DTSTART;TZID=UTC:20240627T150000
DTEND;TZID=UTC:20240627T180000
UID:978405C6-EB5F-478E-B56F-2E2A5658E1F4
SUMMARY:Großeltern-Enkel-Café + Spielenachmittag
CREATED:20240517T112355Z
DTSTAMP:20240517T112355Z
URL:https://www.bahnhof-radibor.de/de/component/dpcalendar/event/66?calid=15
DESCRIPTION:Ab 15 Uhr Großeltern-Enkel-Café und danach offener Spielenachmittag für alle.
X-ALT-DESC;FMTTYPE=text/html:<p>Ab 15 Uhr Großeltern-Enkel-Café und danach offener Spielenachmittag für alle.</p>
LAST-MODIFIED:20240624T062413Z
SEQUENCE:3265218
X-ACCESS:1
X-HITS:34
X-COLOR:ffa200
X-SHOW-END-TIME:1
END:VEVENT
BEGIN:VEVENT
DTSTART;TZID=UTC:20240904T160000
DTEND;TZID=UTC:20240904T170000
UID:9419CE44-A7DB-41E5-9DEC-B795FB4988BA
SUMMARY:Kinderyoga mit Kathleen Hutnik
CREATED:20240823T124317Z
DTSTAMP:20240823T124317Z
URL:https://www.bahnhof-radibor.de/de/component/dpcalendar/event/90?calid=15
DESCRIPTION:Für Kinder von 6 - 10 Jahren. Ihr braucht eine Yogamatte und 3€. \NWir bitten um Anmeldung unter info@bahnhof-radibor.de oder 015231660955.
X-ALT-DESC;FMTTYPE=text/html:<p>Für Kinder von 6 - 10 Jahren. Ihr braucht eine Yogamatte und 3€.&nbsp;</p><p>Wir bitten um Anmeldung unter <a href="mailto:info@bahnhof-radibor.de">info@bahnhof-radibor.de</a>&nbsp;oder 015231660955.</p>
LAST-MODIFIED:20240823T124317Z
SEQUENCE:0
X-ACCESS:1
X-HITS:147
X-COLOR:ffa200
X-SHOW-END-TIME:1
END:VEVENT
BEGIN:VEVENT
DTSTART;TZID=UTC:20260321T140000
DTEND;TZID=UTC:20260321T170000
UID:710000FB-67F6-43A6-A791-EB252140AD8B
SUMMARY:LEADER-Workshop "Handwerke erleben" - Klöppeln, Stricken, Häkeln
CREATED:20260304T124533Z
DTSTAMP:20260304T124533Z
URL:https://www.bahnhof-radibor.de/de/component/dpcalendar/event/135?calid=15
LAST-MODIFIED:20260304T124533Z
SEQUENCE:0
X-ACCESS:1
X-HITS:88
X-COLOR:ffa220
X-SHOW-END-TIME:1
END:VEVENT
BEGIN:VEVENT
DTSTART;TZID=UTC:20260321T150000
DTEND;TZID=UTC:20260321T170000
UID:44971A2C-E230-45B5-AF33-E63865BE60CF
SUMMARY:Treffen für Familien mit behinderten und chronisch kranken Kindern
CREATED:20260304T124628Z
DTSTAMP:20260304T124628Z
URL:https://www.bahnhof-radibor.de/de/component/dpcalendar/event/136?calid=15
LAST-MODIFIED:20260304T124628Z
SEQUENCE:0
X-ACCESS:1
X-HITS:88
X-COLOR:ffa220
X-SHOW-END-TIME:1
END:VEVENT
END:VCALENDAR